BEGIN:VCALENDAR
VERSION:2.0
PRODID:-//Cool Crest Miniature Golf and the Metzger Biergarten - ECPv6.14.2//NONSGML v1.0//EN
CALSCALE:GREGORIAN
METHOD:PUBLISH
X-WR-CALNAME:Cool Crest Miniature Golf and the Metzger Biergarten
X-ORIGINAL-URL:https://coolcrestgolf.com
X-WR-CALDESC:Events for Cool Crest Miniature Golf and the Metzger Biergarten
REFRESH-INTERVAL;VALUE=DURATION:PT1H
X-Robots-Tag:noindex
X-PUBLISHED-TTL:PT1H
BEGIN:VTIMEZONE
TZID:America/Chicago
BEGIN:DAYLIGHT
TZOFFSETFROM:-0600
TZOFFSETTO:-0500
TZNAME:CDT
DTSTART:20210314T080000
END:DAYLIGHT
BEGIN:STANDARD
TZOFFSETFROM:-0500
TZOFFSETTO:-0600
TZNAME:CST
DTSTART:20211107T070000
END:STANDARD
END:VTIMEZONE
BEGIN:VEVENT
DTSTART;TZID=America/Chicago:20211029T170000
DTEND;TZID=America/Chicago:20211029T210000
DTSTAMP:20260422T204832
CREATED:20211012T214544Z
LAST-MODIFIED:20211012T214544Z
UID:3492-1635526800-1635541200@coolcrestgolf.com
SUMMARY:Stone Bro's Pizza
DESCRIPTION:Stone Bro’s Pizza is back with their delicious wood fired pizza from 5-9pm. \nTo read more about them\, visit their Facebook page.
URL:https://coolcrestgolf.com/event/stone-bros-pizza-8/
ATTACH;FMTTYPE=image/jpeg:https://coolcrestgolf.com/wp-content/uploads/2021/03/wood-fire-pizza.jpg
END:VEVENT
BEGIN:VEVENT
DTSTART;TZID=America/Chicago:20211023T183000
DTEND;TZID=America/Chicago:20211023T213000
DTSTAMP:20260422T204832
CREATED:20211005T205353Z
LAST-MODIFIED:20211005T205353Z
UID:3483-1635013800-1635024600@coolcrestgolf.com
SUMMARY:The Infidels
DESCRIPTION:The Infidels are back from 6:30-9:30. This folk-rock band was formed in the mid-’80s and whose name was inspired by Dylan’s 1983 album “Infidels.”\nhttps://www.facebook.com/Michael-Martin-Infidels-189439591081766
URL:https://coolcrestgolf.com/event/the-infidels-4/
ATTACH;FMTTYPE=image/jpeg:https://coolcrestgolf.com/wp-content/uploads/2021/03/infidels.jpg
END:VEVENT
BEGIN:VEVENT
DTSTART;TZID=America/Chicago:20211023T170000
DTEND;TZID=America/Chicago:20211023T220000
DTSTAMP:20260422T204832
CREATED:20210921T200702Z
LAST-MODIFIED:20211018T170339Z
UID:3467-1635008400-1635026400@coolcrestgolf.com
SUMMARY:Serranos
DESCRIPTION:Serranos will be serving a variety of Mexican food from 5-10pm.\nInstagram.com/serranos.mexia
URL:https://coolcrestgolf.com/event/serranos-14/
ATTACH;FMTTYPE=image/jpeg:https://coolcrestgolf.com/wp-content/uploads/2021/06/serranos-.jpg
END:VEVENT
BEGIN:VEVENT
DTSTART;TZID=America/Chicago:20211023T150000
DTEND;TZID=America/Chicago:20211023T170000
DTSTAMP:20260422T204832
CREATED:20211015T190607Z
LAST-MODIFIED:20211015T190607Z
UID:3499-1635001200-1635008400@coolcrestgolf.com
SUMMARY:Get Out the Vote Rally with League of Women Voters
DESCRIPTION:The League of Women Voters is hosting a great event on October 23rd from 3-5pm to get the word out about voting! Tickets include a game of golf\, a delicious meal from Serranos and an alcoholic or non alcoholic drink. You can purchase tickets on site or by making a donation at their website\, https://lwvsa.org/get-involved/donate/.
URL:https://coolcrestgolf.com/event/get-out-the-vote-rally-with-league-of-women-voters/
ATTACH;FMTTYPE=image/png:https://coolcrestgolf.com/wp-content/uploads/2021/10/LWV-event-at-Cool-Crest.png
END:VEVENT
BEGIN:VEVENT
DTSTART;TZID=America/Chicago:20211022T183000
DTEND;TZID=America/Chicago:20211022T213000
DTSTAMP:20260422T204832
CREATED:20211018T161346Z
LAST-MODIFIED:20211018T161422Z
UID:3502-1634927400-1634938200@coolcrestgolf.com
SUMMARY:Brother Dave and the Barrio Blasters
DESCRIPTION:Brother Dave and the Barrio Blasters are a Hard Groovin’\, Sharp Dressed band with a songbook as diverse as their beloved hometown San Antonio\, Texas. from 6:30-9:30pm.\nhttps://www.facebook.com/barrioblasters
URL:https://coolcrestgolf.com/event/brother-dave-and-the-barrio-blasters-2/
ATTACH;FMTTYPE=image/jpeg:https://coolcrestgolf.com/wp-content/uploads/2021/09/brother-dave.jpg
END:VEVENT
BEGIN:VEVENT
DTSTART;TZID=America/Chicago:20211022T170000
DTEND;TZID=America/Chicago:20211022T220000
DTSTAMP:20260422T204832
CREATED:20210921T200632Z
LAST-MODIFIED:20210921T200632Z
UID:3465-1634922000-1634940000@coolcrestgolf.com
SUMMARY:Serranos
DESCRIPTION:Serranos will be serving a variety of Mexican food from 5-10pm.\nInstagram.com/serranos.mexia
URL:https://coolcrestgolf.com/event/serranos-13/
ATTACH;FMTTYPE=image/jpeg:https://coolcrestgolf.com/wp-content/uploads/2021/06/serranos-.jpg
END:VEVENT
BEGIN:VEVENT
DTSTART;TZID=America/Chicago:20211016T183000
DTEND;TZID=America/Chicago:20211016T213000
DTSTAMP:20260422T204832
CREATED:20210921T195640Z
LAST-MODIFIED:20210921T195640Z
UID:3455-1634409000-1634419800@coolcrestgolf.com
SUMMARY:One Horse Town
DESCRIPTION:Johnny Cash to John Hiatt\, Waylon Jennings to Walt Wilkins\, The Band to Blackberry Smoke…One Horse Town is a band of good friends and seasoned players. Texas Americana and Roots Country…with some surprises sprinkled in…they have fun and you will too! \nhttps://www.facebook.com/One-Horse-Town-San-Antonio-102282645286589 \n 
URL:https://coolcrestgolf.com/event/one-horse-town-2/
LOCATION:Metzger Biergarten\, 1402 Fredericksburg Road\, San Antonio\, TX\, 78201\, United States
ATTACH;FMTTYPE=image/jpeg:https://coolcrestgolf.com/wp-content/uploads/2021/07/one-horse-town.jpg
END:VEVENT
BEGIN:VEVENT
DTSTART;TZID=America/Chicago:20211016T170000
DTEND;TZID=America/Chicago:20211016T220000
DTSTAMP:20260422T204832
CREATED:20211005T205217Z
LAST-MODIFIED:20211005T205306Z
UID:3481-1634403600-1634421600@coolcrestgolf.com
SUMMARY:So Tex BBQ
DESCRIPTION:So Tex offering a variety of their delicious BBQ from 5-10pm.
URL:https://coolcrestgolf.com/event/so-tex-bbq-6/
ATTACH;FMTTYPE=image/jpeg:https://coolcrestgolf.com/wp-content/uploads/2021/04/so-tex-bbq.jpg
END:VEVENT
BEGIN:VEVENT
DTSTART;TZID=America/Chicago:20211015T183000
DTEND;TZID=America/Chicago:20211015T213000
DTSTAMP:20260422T204832
CREATED:20210921T195519Z
LAST-MODIFIED:20210921T195601Z
UID:3453-1634322600-1634333400@coolcrestgolf.com
SUMMARY:Bob Ram and the Rams
DESCRIPTION:Bob Ram & the Rams are back with a variety of music from Jazz to traditional Mexican folk from 6:30-9:30pm.\nhttps://bobramandtherams.com/
URL:https://coolcrestgolf.com/event/bob-ram-and-the-rams-4/
ATTACH;FMTTYPE=image/jpeg:https://coolcrestgolf.com/wp-content/uploads/2021/03/bob-ram.jpg
END:VEVENT
BEGIN:VEVENT
DTSTART;TZID=America/Chicago:20211015T170000
DTEND;TZID=America/Chicago:20211015T210000
DTSTAMP:20260422T204832
CREATED:20210921T200816Z
LAST-MODIFIED:20210921T200816Z
UID:3469-1634317200-1634331600@coolcrestgolf.com
SUMMARY:Stone Bro's Pizza
DESCRIPTION:Stone Bro’s Pizza is back with their delicious wood fired pizza from 5-9pm. \nTo read more about them\, visit their Facebook page.
URL:https://coolcrestgolf.com/event/stone-bros-pizza-7/
ATTACH;FMTTYPE=image/jpeg:https://coolcrestgolf.com/wp-content/uploads/2021/03/wood-fire-pizza.jpg
END:VEVENT
BEGIN:VEVENT
DTSTART;TZID=America/Chicago:20211009T183000
DTEND;TZID=America/Chicago:20211009T213000
DTSTAMP:20260422T204832
CREATED:20210921T195402Z
LAST-MODIFIED:20210921T195402Z
UID:3449-1633804200-1633815000@coolcrestgolf.com
SUMMARY:MC & the Mystyx
DESCRIPTION:MC & The Mystyx has various musical influences and enjoys a variety of musical genres. They love playing and having a great time! If you get the opportunity to enjoy their live performance\, you will hear music by artist from folk and bluegrass — to rock\, blues\, and country. \nTo learn more about the band\, visit https://www.mcmystyx.com/.
URL:https://coolcrestgolf.com/event/mc-the-mystyx/
ATTACH;FMTTYPE=image/jpeg:https://coolcrestgolf.com/wp-content/uploads/2021/09/MC-Mystic.jpg
END:VEVENT
BEGIN:VEVENT
DTSTART;TZID=America/Chicago:20211009T170000
DTEND;TZID=America/Chicago:20211009T220000
DTSTAMP:20260422T204832
CREATED:20210921T200546Z
LAST-MODIFIED:20210921T200546Z
UID:3463-1633798800-1633816800@coolcrestgolf.com
SUMMARY:Serranos
DESCRIPTION:Serranos will be serving a variety of Mexican food from 5-10pm.\nInstagram.com/serranos.mexia
URL:https://coolcrestgolf.com/event/serranos-12/
ATTACH;FMTTYPE=image/jpeg:https://coolcrestgolf.com/wp-content/uploads/2021/06/serranos-.jpg
END:VEVENT
BEGIN:VEVENT
DTSTART;TZID=America/Chicago:20211008T183000
DTEND;TZID=America/Chicago:20211008T213000
DTSTAMP:20260422T204832
CREATED:20210921T195017Z
LAST-MODIFIED:20210921T195017Z
UID:3447-1633717800-1633728600@coolcrestgolf.com
SUMMARY:Chris Cueves Project
DESCRIPTION:Chris Cuevas Project is a local SA band blending together blues\, funk\, soul\, latin and jazz genres.\nhttps://www.facebook.com/chriscproject
URL:https://coolcrestgolf.com/event/chris-cueves-project-3/
LOCATION:Metzger Biergarten\, 1402 Fredericksburg Road\, San Antonio\, TX\, 78201\, United States
ATTACH;FMTTYPE=image/jpeg:https://coolcrestgolf.com/wp-content/uploads/2021/03/Chris-Cueves.jpg
END:VEVENT
BEGIN:VEVENT
DTSTART;TZID=America/Chicago:20211008T170000
DTEND;TZID=America/Chicago:20211008T220000
DTSTAMP:20260422T204832
CREATED:20210921T200521Z
LAST-MODIFIED:20210921T200521Z
UID:3461-1633712400-1633730400@coolcrestgolf.com
SUMMARY:Serranos
DESCRIPTION:Serranos will be serving a variety of Mexican food from 5-10pm.\nInstagram.com/serranos.mexia
URL:https://coolcrestgolf.com/event/serranos-10/
ATTACH;FMTTYPE=image/jpeg:https://coolcrestgolf.com/wp-content/uploads/2021/06/serranos-.jpg
END:VEVENT
BEGIN:VEVENT
DTSTART;TZID=America/Chicago:20211007T180000
DTEND;TZID=America/Chicago:20211007T220000
DTSTAMP:20260422T204832
CREATED:20210909T213125Z
LAST-MODIFIED:20210909T213125Z
UID:3432-1633629600-1633644000@coolcrestgolf.com
SUMMARY:Open Mic Night
DESCRIPTION:We love promoting local artists and we are looking to bring some more weeknight entertainment to the Biergarten so we are now doing an Open Mic Night on Thursdays!!!\n\nInterested artists can sign up through our website for 30 min slots from 6-10pm on Thursdays. https://coolcrestgolf.com/metzger-biergarten/\n\nWe do not have food trucks on Thursday yet so feel free to bring your own dinner!
URL:https://coolcrestgolf.com/event/open-mic-night-11/
ATTACH;FMTTYPE=image/jpeg:https://coolcrestgolf.com/wp-content/uploads/2021/08/open-mic-night--scaled.jpg
END:VEVENT
BEGIN:VEVENT
DTSTART;TZID=America/Chicago:20211002T183000
DTEND;TZID=America/Chicago:20211002T213000
DTSTAMP:20260422T204832
CREATED:20210921T194820Z
LAST-MODIFIED:20210921T194820Z
UID:3442-1633199400-1633210200@coolcrestgolf.com
SUMMARY:BexarBrass
DESCRIPTION:Talented San Antonio musicians bringing you a little bit of everything. Funk\, Jazz\, Latin\, Soul\, Ska\, you name it! You want it? You got it. Bring a friend or loved one and be a part of the experience with the BexarBrass.
URL:https://coolcrestgolf.com/event/bexarbrass-2/
ATTACH;FMTTYPE=image/jpeg:https://coolcrestgolf.com/wp-content/uploads/2021/08/Bexar-Brass.jpg
END:VEVENT
BEGIN:VEVENT
DTSTART;TZID=America/Chicago:20211002T170000
DTEND;TZID=America/Chicago:20211002T220000
DTSTAMP:20260422T204832
CREATED:20210921T200314Z
LAST-MODIFIED:20210921T200314Z
UID:3457-1633194000-1633212000@coolcrestgolf.com
SUMMARY:Uncle Jesse's BBQ
DESCRIPTION:Uncle Jesse’s BBQ serving up a variety of delicious BBQ from 5-10pm. \nhttps://www.facebook.com/unclejessesbbq
URL:https://coolcrestgolf.com/event/uncle-jesses-bbq-7/
LOCATION:Metzger Biergarten\, 1402 Fredericksburg Road\, San Antonio\, TX\, 78201\, United States
ATTACH;FMTTYPE=image/jpeg:https://coolcrestgolf.com/wp-content/uploads/2021/04/brisket.jpg
END:VEVENT
BEGIN:VEVENT
DTSTART;TZID=America/Chicago:20211001T183000
DTEND;TZID=America/Chicago:20211001T213000
DTSTAMP:20260422T204832
CREATED:20210921T194911Z
LAST-MODIFIED:20210921T194933Z
UID:3445-1633113000-1633123800@coolcrestgolf.com
SUMMARY:Los Callejeros de San Anto
DESCRIPTION:Los Callejeros de San Anto is back with some Tex-Mex music for you guys from 6:30-9:30pm.\nhttps://www.facebook.com/LosCallejerosDeSanAnto/
URL:https://coolcrestgolf.com/event/los-callejeros-de-san-anto-2/
ATTACH;FMTTYPE=image/jpeg:https://coolcrestgolf.com/wp-content/uploads/2021/03/los-callejas.jpg
END:VEVENT
BEGIN:VEVENT
DTSTART;TZID=America/Chicago:20211001T170000
DTEND;TZID=America/Chicago:20211001T220000
DTSTAMP:20260422T204832
CREATED:20210928T180622Z
LAST-MODIFIED:20210928T180622Z
UID:3476-1633107600-1633125600@coolcrestgolf.com
SUMMARY:Riri’s Caribbean Kitchen
DESCRIPTION:Riri’s Caribbean Kitchen will be providing the best Authentic Caribbean Food in Texas from 5-10pm
URL:https://coolcrestgolf.com/event/riris-caribbean-kitchen/
ATTACH;FMTTYPE=image/jpeg:https://coolcrestgolf.com/wp-content/uploads/2021/09/carbiean.jpg
END:VEVENT
BEGIN:VEVENT
DTSTART;TZID=America/Chicago:20210930T180000
DTEND;TZID=America/Chicago:20210930T220000
DTSTAMP:20260422T204832
CREATED:20210909T213035Z
LAST-MODIFIED:20210909T213035Z
UID:3430-1633024800-1633039200@coolcrestgolf.com
SUMMARY:Open Mic Night
DESCRIPTION:We love promoting local artists and we are looking to bring some more weeknight entertainment to the Biergarten so we are now doing an Open Mic Night on Thursdays!!!\n\nInterested artists can sign up through our website for 30 min slots from 6-10pm on Thursdays. https://coolcrestgolf.com/metzger-biergarten/\n\nWe do not have food trucks on Thursday yet so feel free to bring your own dinner!
URL:https://coolcrestgolf.com/event/open-mic-night-10/
ATTACH;FMTTYPE=image/jpeg:https://coolcrestgolf.com/wp-content/uploads/2021/08/open-mic-night--scaled.jpg
END:VEVENT
BEGIN:VEVENT
DTSTART;TZID=America/Chicago:20210925T183000
DTEND;TZID=America/Chicago:20210925T213000
DTSTAMP:20260422T204832
CREATED:20210824T162107Z
LAST-MODIFIED:20210824T162107Z
UID:3405-1632594600-1632605400@coolcrestgolf.com
SUMMARY:Los #3 Dinners
DESCRIPTION:Los #3 Dinners are back with their original songs and covers from days gone by to make people rock\, dance\, laugh and think…..often all at the same time! \nFor more information on the band\, visit their Facebook page.
URL:https://coolcrestgolf.com/event/los-3-dinners-4/
ATTACH;FMTTYPE=image/jpeg:https://coolcrestgolf.com/wp-content/uploads/2021/06/los-3-dinners.jpg
END:VEVENT
BEGIN:VEVENT
DTSTART;TZID=America/Chicago:20210925T170000
DTEND;TZID=America/Chicago:20210925T220000
DTSTAMP:20260422T204832
CREATED:20210824T144710Z
LAST-MODIFIED:20210920T204635Z
UID:3390-1632589200-1632607200@coolcrestgolf.com
SUMMARY:So Tex BBQ
DESCRIPTION:So Tex offering a variety of their delicious BBQ from 5-10pm.
URL:https://coolcrestgolf.com/event/serranos-11/
ATTACH;FMTTYPE=image/jpeg:https://coolcrestgolf.com/wp-content/uploads/2021/04/so-tex-bbq.jpg
END:VEVENT
BEGIN:VEVENT
DTSTART;TZID=America/Chicago:20210924T183000
DTEND;TZID=America/Chicago:20210924T213000
DTSTAMP:20260422T204832
CREATED:20210909T194816Z
LAST-MODIFIED:20210909T211100Z
UID:3418-1632508200-1632519000@coolcrestgolf.com
SUMMARY:Mark Weber y Los Cuernos
DESCRIPTION:Los Cuernos is an original Conjunto/Tex-Mex band with a unique blend of Texas and Mexican roots. They combine Rancheras\, Cumbias\, Polkas\, Waltzes and other beats plus a generous dose of humor to provide your audience a tremendous time. https://www.facebook.com/loscuernos/ \n 
URL:https://coolcrestgolf.com/event/mark-weber-y-los-cuernos-2/
ATTACH;FMTTYPE=image/jpeg:https://coolcrestgolf.com/wp-content/uploads/2021/09/mark.jpg
END:VEVENT
BEGIN:VEVENT
DTSTART;TZID=America/Chicago:20210924T170000
DTEND;TZID=America/Chicago:20210924T210000
DTSTAMP:20260422T204832
CREATED:20210923T202648Z
LAST-MODIFIED:20210923T202709Z
UID:3471-1632502800-1632517200@coolcrestgolf.com
SUMMARY:The Happy Gordita
DESCRIPTION:The Happy Gordita will be serving a variety of Mexican food from 5-9pm. \nwww.facebook.com/thehappygordita \n 
URL:https://coolcrestgolf.com/event/the-happy-gordita/
ATTACH;FMTTYPE=image/jpeg:https://coolcrestgolf.com/wp-content/uploads/2021/09/happy-gordita2.jpg
END:VEVENT
BEGIN:VEVENT
DTSTART;TZID=America/Chicago:20210923T180000
DTEND;TZID=America/Chicago:20210923T220000
DTSTAMP:20260422T204832
CREATED:20210909T212952Z
LAST-MODIFIED:20210909T212952Z
UID:3428-1632420000-1632434400@coolcrestgolf.com
SUMMARY:Open Mic Night
DESCRIPTION:We love promoting local artists and we are looking to bring some more weeknight entertainment to the Biergarten so we are now doing an Open Mic Night on Thursdays!!!\n\nInterested artists can sign up through our website for 30 min slots from 6-10pm on Thursdays. https://coolcrestgolf.com/metzger-biergarten/\n\nWe do not have food trucks on Thursday yet so feel free to bring your own dinner!
URL:https://coolcrestgolf.com/event/open-mic-night-9/
ATTACH;FMTTYPE=image/jpeg:https://coolcrestgolf.com/wp-content/uploads/2021/08/open-mic-night--scaled.jpg
END:VEVENT
BEGIN:VEVENT
DTSTART;TZID=America/Chicago:20210918T183000
DTEND;TZID=America/Chicago:20210918T213000
DTSTAMP:20260422T204832
CREATED:20210915T154252Z
LAST-MODIFIED:20210915T200542Z
UID:3434-1631989800-1632000600@coolcrestgolf.com
SUMMARY:Brother Dave and the Barrio Blasters
DESCRIPTION:Brother Dave and the Barrio Blasters are a Hard Groovin’\, Sharp Dressed band with a songbook as diverse as their beloved hometown San Antonio\, Texas. from 6:30-9:30pm.\nhttps://www.facebook.com/barrioblasters
URL:https://coolcrestgolf.com/event/brother-dave-and-the-barrio-blasters/
ATTACH;FMTTYPE=image/jpeg:https://coolcrestgolf.com/wp-content/uploads/2021/09/brother-dave.jpg
END:VEVENT
BEGIN:VEVENT
DTSTART;TZID=America/Chicago:20210918T170000
DTEND;TZID=America/Chicago:20210918T220000
DTSTAMP:20260422T204832
CREATED:20210909T211333Z
LAST-MODIFIED:20210909T211400Z
UID:3421-1631984400-1632002400@coolcrestgolf.com
SUMMARY:Rosey's Fish and Chips
DESCRIPTION:Rosey’s Fish and Chips will be serving from 5-10pm. \nhttps://www.facebook.com/roseysfishandchips
URL:https://coolcrestgolf.com/event/roseys-fish-and-chips/
ATTACH;FMTTYPE=image/jpeg:https://coolcrestgolf.com/wp-content/uploads/2021/09/fish-and-chips.jpg
END:VEVENT
BEGIN:VEVENT
DTSTART;TZID=America/Chicago:20210917T170000
DTEND;TZID=America/Chicago:20210917T220000
DTSTAMP:20260422T204832
CREATED:20210824T144613Z
LAST-MODIFIED:20210824T144613Z
UID:3386-1631898000-1631916000@coolcrestgolf.com
SUMMARY:Serranos
DESCRIPTION:Serranos will be serving a variety of Mexican food from 5-10pm.\nInstagram.com/serranos.mexia
URL:https://coolcrestgolf.com/event/serranos-9/
ATTACH;FMTTYPE=image/jpeg:https://coolcrestgolf.com/wp-content/uploads/2021/06/serranos-.jpg
END:VEVENT
BEGIN:VEVENT
DTSTART;TZID=America/Chicago:20210916T180000
DTEND;TZID=America/Chicago:20210916T220000
DTSTAMP:20260422T204832
CREATED:20210909T212908Z
LAST-MODIFIED:20210909T212908Z
UID:3426-1631815200-1631829600@coolcrestgolf.com
SUMMARY:Open Mic Night
DESCRIPTION:We love promoting local artists and we are looking to bring some more weeknight entertainment to the Biergarten so we are now doing an Open Mic Night on Thursdays!!!\n\nInterested artists can sign up through our website for 30 min slots from 6-10pm on Thursdays. https://coolcrestgolf.com/metzger-biergarten/\n\nWe do not have food trucks on Thursday yet so feel free to bring your own dinner!
URL:https://coolcrestgolf.com/event/open-mic-night-8/
ATTACH;FMTTYPE=image/jpeg:https://coolcrestgolf.com/wp-content/uploads/2021/08/open-mic-night--scaled.jpg
END:VEVENT
BEGIN:VEVENT
DTSTART;TZID=America/Chicago:20210911T183000
DTEND;TZID=America/Chicago:20210911T213000
DTSTAMP:20260422T204832
CREATED:20210824T145411Z
LAST-MODIFIED:20210824T145411Z
UID:3392-1631385000-1631395800@coolcrestgolf.com
SUMMARY:Bob Ram and the Rams
DESCRIPTION:Bob Ram & the Rams are back with a variety of music from Jazz to traditional Mexican folk from 6:30-9:30pm.\nhttps://bobramandtherams.com/
URL:https://coolcrestgolf.com/event/bob-ram-and-the-rams-3/
ATTACH;FMTTYPE=image/jpeg:https://coolcrestgolf.com/wp-content/uploads/2021/03/bob-ram.jpg
END:VEVENT
END:VCALENDAR